﻿BEGIN:VCALENDAR
VERSION:2.0
PRODID:-//85.13.147.204//NONSGML kigkonsult.se iCalcreator 2.20//
CALSCALE:GREGORIAN
METHOD:PUBLISH
X-WR-TIMEZONE:UTC
BEGIN:VEVENT
UID:event143@regentanz - Deutschrock aus Halle (Saale)
DTSTAMP:20260423T093103Z
CATEGORIES:Konzert
DESCRIPTION:Panik! - Clubtour\nKategorie: Konzert\nICS-Link: https://www.re
 gentanz.com/index.php?option=com_jem&view=event&id=143:panik-clubtour\n
DTSTART:20170204T200000Z
DTEND:20170204T200000Z
LOCATION:Jolys Live-Music-Bar\,Neumarkt 9\,04109 Leipzig
SUMMARY:Panik! - Clubtour
URL:https://www.regentanz.com/index.php?option=com_jem&view=event&id=143:pa
 nik-clubtour
END:VEVENT
END:VCALENDAR
