﻿BEGIN:VCALENDAR
VERSION:2.0
PRODID:-//85.13.147.204//NONSGML kigkonsult.se iCalcreator 2.20//
CALSCALE:GREGORIAN
METHOD:PUBLISH
X-WR-TIMEZONE:UTC
BEGIN:VEVENT
UID:event165@regentanz - Deutschrock aus Halle (Saale)
DTSTAMP:20260423T103525Z
CATEGORIES:Konzert
DESCRIPTION:Regentanz - Wir sind hier: Clubtour 2026\nKategorie: Konzert\nI
 CS-Link: https://www.regentanz.com/index.php?option=com_jem&view=event&id=
 165:regentanz-wir-sind-hier-clubtour-2026\n
DTSTART:20260123T200000Z
DTEND:20260123T200000Z
LOCATION:Jolys Live-Music-Bar\,Neumarkt 9\,04109 Leipzig
SUMMARY:Regentanz - Wir sind hier: Clubtour 2026
URL:https://www.regentanz.com/index.php?option=com_jem&view=event&id=165:re
 gentanz-wir-sind-hier-clubtour-2026
END:VEVENT
END:VCALENDAR
