﻿BEGIN:VCALENDAR
VERSION:2.0
PRODID:-//85.13.147.204//NONSGML kigkonsult.se iCalcreator 2.20//
CALSCALE:GREGORIAN
METHOD:PUBLISH
X-WR-TIMEZONE:UTC
BEGIN:VEVENT
UID:event166@regentanz - Deutschrock aus Halle (Saale)
DTSTAMP:20260423T104729Z
CATEGORIES:Konzert
DESCRIPTION:Regentanz - Wir sind hier: Clubtour 2026\nKategorie: Konzert\nI
 CS-Link: https://www.regentanz.com/index.php?option=com_jem&view=event&id=
 166:regentanz-wir-sind-hier-clubtour-2026\n
DTSTART:20260220T200000Z
DTEND:20260220T200000Z
LOCATION:mach|werk - KOMPAKT Medienzentrum\,Breiter Weg 114a\,39104  Magdeb
 urg
SUMMARY:Regentanz - Wir sind hier: Clubtour 2026
URL:https://www.regentanz.com/index.php?option=com_jem&view=event&id=166:re
 gentanz-wir-sind-hier-clubtour-2026
END:VEVENT
END:VCALENDAR
